BEGIN:VCALENDAR
VERSION:2.0
PRODID:-//Squarespace Inc/Squarespace 6//v6//EN
BEGIN:VEVENT
UID:5e12b46385478a352855a025@squarespace.com
DTSTAMP:20200106T051202Z
DTSTART:20200213T200000Z
DTEND:20200213T210000Z
SUMMARY:Break Time Briefing: Employment and Immigration Law
GEO:-37.863341;145.027979
LOCATION:Tonic & Grace\, 63 Glenferrie Road\, Malvern\, VIC\, 3144\, Austra
 lia
END:VEVENT
END:VCALENDAR
