BEGIN:VCALENDAR
VERSION:2.0
PRODID:-//Squarespace Inc/Squarespace 6//v6//EN
BEGIN:VEVENT
UID:5da7b61322eed41092f2a0f2@squarespace.com
DTSTAMP:20200106T062933Z
DTSTART:20200227T200000Z
DTEND:20200227T210000Z
SUMMARY:Break Time Briefing: Australia Business Accounting\, Bookkeeping &a
 mp\; Employee Sponsorship
GEO:-37.863341;145.027979
LOCATION:Tonic & Grace\, 63 Glenferrie Road\, Malvern\, VIC\, 3144\, Austra
 lia
END:VEVENT
END:VCALENDAR
