BEGIN:VCALENDAR
VERSION:2.0
PRODID:-//Squarespace Inc/Squarespace 6//v6//EN
BEGIN:VEVENT
UID:5eb105e1fcf9c7222f582d75@squarespace.com
DTSTAMP:20200505T063151Z
DTSTART:20200505T063000Z
DTEND:20200505T073000Z
SUMMARY:Happy Hour: Stay Connected Online &amp\; Build Your Business Commun
 ity
END:VEVENT
END:VCALENDAR
