BEGIN:VCALENDAR
VERSION:2.0
PRODID:-//Squarespace Inc/Squarespace 6//v6//EN
BEGIN:VEVENT
UID:5da69412969104796c2dcb4d@squarespace.com
DTSTAMP:20191111T005340Z
DTSTART:20191203T173000Z
DTEND:20191203T183000Z
SUMMARY:Break Time Briefing: Employment Law and Immigration
END:VEVENT
END:VCALENDAR
